BEGIN:VCALENDAR
VERSION:2.0
PRODID:-//Blockhaus Wasserliesch - ECPv6.15.20//NONSGML v1.0//EN
CALSCALE:GREGORIAN
METHOD:PUBLISH
X-ORIGINAL-URL:https://blockhaus-wasserliesch.de
X-WR-CALDESC:Veranstaltungen für Blockhaus Wasserliesch
REFRESH-INTERVAL;VALUE=DURATION:PT1H
X-Robots-Tag:noindex
X-PUBLISHED-TTL:PT1H
BEGIN:VTIMEZONE
TZID:Europe/Berlin
BEGIN:DAYLIGHT
TZOFFSETFROM:+0100
TZOFFSETTO:+0200
TZNAME:CEST
DTSTART:20250330T010000
END:DAYLIGHT
BEGIN:STANDARD
TZOFFSETFROM:+0200
TZOFFSETTO:+0100
TZNAME:CET
DTSTART:20251026T010000
END:STANDARD
BEGIN:DAYLIGHT
TZOFFSETFROM:+0100
TZOFFSETTO:+0200
TZNAME:CEST
DTSTART:20260329T010000
END:DAYLIGHT
BEGIN:STANDARD
TZOFFSETFROM:+0200
TZOFFSETTO:+0100
TZNAME:CET
DTSTART:20261025T010000
END:STANDARD
BEGIN:DAYLIGHT
TZOFFSETFROM:+0100
TZOFFSETTO:+0200
TZNAME:CEST
DTSTART:20270328T010000
END:DAYLIGHT
BEGIN:STANDARD
TZOFFSETFROM:+0200
TZOFFSETTO:+0100
TZNAME:CET
DTSTART:20271031T010000
END:STANDARD
END:VTIMEZONE
BEGIN:VEVENT
DTSTART;TZID=Europe/Berlin:20260503T160000
DTEND;TZID=Europe/Berlin:20260503T190000
DTSTAMP:20260421T102230
CREATED:20260419T195457Z
LAST-MODIFIED:20260419T195457Z
UID:2679-1777824000-1777834800@blockhaus-wasserliesch.de
SUMMARY:Achim Weinzen
DESCRIPTION:
URL:https://blockhaus-wasserliesch.de/events/achim-weinzen-2/
CATEGORIES:Blockhaus Veranstaltungen
ATTACH;FMTTYPE=image/jpeg:https://blockhaus-wasserliesch.de/wp-content/uploads/2025/07/aw2007.jpg
END:VEVENT
BEGIN:VEVENT
DTSTART;TZID=Europe/Berlin:20260517T160000
DTEND;TZID=Europe/Berlin:20260517T190000
DTSTAMP:20260421T102230
CREATED:20260419T195808Z
LAST-MODIFIED:20260419T195809Z
UID:2681-1779033600-1779044400@blockhaus-wasserliesch.de
SUMMARY:Pezi Nels Band
DESCRIPTION:
URL:https://blockhaus-wasserliesch.de/events/pezi-nels-band/
CATEGORIES:Blockhaus Veranstaltungen
ATTACH;FMTTYPE=image/jpeg:https://blockhaus-wasserliesch.de/wp-content/uploads/2026/04/pezi1.jpg
END:VEVENT
BEGIN:VEVENT
DTSTART;TZID=Europe/Berlin:20260525T190000
DTEND;TZID=Europe/Berlin:20260525T220000
DTSTAMP:20260421T102230
CREATED:20260419T201252Z
LAST-MODIFIED:20260419T201252Z
UID:2698-1779735600-1779746400@blockhaus-wasserliesch.de
SUMMARY:25.05 Jam Session
DESCRIPTION:25.05 Jam Session
URL:https://blockhaus-wasserliesch.de/events/25-05-jam-session/
CATEGORIES:Blockhaus Veranstaltungen
ATTACH;FMTTYPE=image/png:https://blockhaus-wasserliesch.de/wp-content/uploads/2025/05/jamsession.png
END:VEVENT
BEGIN:VEVENT
DTSTART;TZID=Europe/Berlin:20260531T160000
DTEND;TZID=Europe/Berlin:20260531T190000
DTSTAMP:20260421T102230
CREATED:20260419T200011Z
LAST-MODIFIED:20260419T200030Z
UID:2684-1780243200-1780254000@blockhaus-wasserliesch.de
SUMMARY:Street Cafe
DESCRIPTION:„Street Café“ steht für gute Laune\, Spass an der Musik\, Kreativität und eigenen Sound.\nMit Gitarre\, Akkordeon\, Cajon und interessanten Percussion erleben sie Musik in vielfältiger Form. Was die Band auszeichnet ist ihr schöner Harmoniegesang. Gespielt werden Klassiker aus mehreren Jahrzehnten\, Evergreens bis hin zu aktuellen Pop- und Rocksongs.\nLive und unverwechselbar.
URL:https://blockhaus-wasserliesch.de/events/street-cafe/
ATTACH;FMTTYPE=image/jpeg:https://blockhaus-wasserliesch.de/wp-content/uploads/2026/04/scafe.jpeg
END:VEVENT
END:VCALENDAR