BEGIN:VCALENDAR
VERSION:2.0
PRODID:-//Blockhaus Wasserliesch - ECPv6.15.20//NONSGML v1.0//EN
CALSCALE:GREGORIAN
METHOD:PUBLISH
X-WR-CALNAME:Blockhaus Wasserliesch
X-ORIGINAL-URL:https://blockhaus-wasserliesch.de
X-WR-CALDESC:Veranstaltungen für Blockhaus Wasserliesch
REFRESH-INTERVAL;VALUE=DURATION:PT1H
X-Robots-Tag:noindex
X-PUBLISHED-TTL:PT1H
BEGIN:VTIMEZONE
TZID:Europe/Berlin
BEGIN:DAYLIGHT
TZOFFSETFROM:+0100
TZOFFSETTO:+0200
TZNAME:CEST
DTSTART:20240331T010000
END:DAYLIGHT
BEGIN:STANDARD
TZOFFSETFROM:+0200
TZOFFSETTO:+0100
TZNAME:CET
DTSTART:20241027T010000
END:STANDARD
BEGIN:DAYLIGHT
TZOFFSETFROM:+0100
TZOFFSETTO:+0200
TZNAME:CEST
DTSTART:20250330T010000
END:DAYLIGHT
BEGIN:STANDARD
TZOFFSETFROM:+0200
TZOFFSETTO:+0100
TZNAME:CET
DTSTART:20251026T010000
END:STANDARD
BEGIN:DAYLIGHT
TZOFFSETFROM:+0100
TZOFFSETTO:+0200
TZNAME:CEST
DTSTART:20260329T010000
END:DAYLIGHT
BEGIN:STANDARD
TZOFFSETFROM:+0200
TZOFFSETTO:+0100
TZNAME:CET
DTSTART:20261025T010000
END:STANDARD
END:VTIMEZONE
BEGIN:VEVENT
DTSTART;TZID=Europe/Berlin:20250906T190000
DTEND;TZID=Europe/Berlin:20250906T230000
DTSTAMP:20260421T210156
CREATED:20250711T080352Z
LAST-MODIFIED:20250904T152824Z
UID:1649-1757185200-1757199600@blockhaus-wasserliesch.de
SUMMARY:Sommerbühne - Black & White
DESCRIPTION:Best of Party & Dance Musik \nDJane Sonja Storz und Deejay Fraenk
URL:https://blockhaus-wasserliesch.de/events/black-white/
LOCATION:Sommerbühne Blockhaus Wasserliesch
CATEGORIES:Blockhaus Veranstaltungen
ATTACH;FMTTYPE=image/jpeg:https://blockhaus-wasserliesch.de/wp-content/uploads/2025/07/bw0609.jpg
END:VEVENT
BEGIN:VEVENT
DTSTART;TZID=Europe/Berlin:20250929T190000
DTEND;TZID=Europe/Berlin:20250929T220000
DTSTAMP:20260421T210156
CREATED:20250927T133431Z
LAST-MODIFIED:20250927T133432Z
UID:1816-1759172400-1759183200@blockhaus-wasserliesch.de
SUMMARY:Jam Session
DESCRIPTION:Jam Session
URL:https://blockhaus-wasserliesch.de/events/jam-session/
CATEGORIES:Blockhaus Veranstaltungen
ATTACH;FMTTYPE=image/png:https://blockhaus-wasserliesch.de/wp-content/uploads/2025/05/jamsession.png
END:VEVENT
END:VCALENDAR