BEGIN:VCALENDAR
VERSION:2.0
PRODID:-//Blockhaus Wasserliesch - ECPv6.15.20//NONSGML v1.0//EN
CALSCALE:GREGORIAN
METHOD:PUBLISH
X-WR-CALNAME:Blockhaus Wasserliesch
X-ORIGINAL-URL:https://blockhaus-wasserliesch.de
X-WR-CALDESC:Veranstaltungen für Blockhaus Wasserliesch
REFRESH-INTERVAL;VALUE=DURATION:PT1H
X-Robots-Tag:noindex
X-PUBLISHED-TTL:PT1H
BEGIN:VTIMEZONE
TZID:Europe/Berlin
BEGIN:DAYLIGHT
TZOFFSETFROM:+0100
TZOFFSETTO:+0200
TZNAME:CEST
DTSTART:20240331T010000
END:DAYLIGHT
BEGIN:STANDARD
TZOFFSETFROM:+0200
TZOFFSETTO:+0100
TZNAME:CET
DTSTART:20241027T010000
END:STANDARD
BEGIN:DAYLIGHT
TZOFFSETFROM:+0100
TZOFFSETTO:+0200
TZNAME:CEST
DTSTART:20250330T010000
END:DAYLIGHT
BEGIN:STANDARD
TZOFFSETFROM:+0200
TZOFFSETTO:+0100
TZNAME:CET
DTSTART:20251026T010000
END:STANDARD
BEGIN:DAYLIGHT
TZOFFSETFROM:+0100
TZOFFSETTO:+0200
TZNAME:CEST
DTSTART:20260329T010000
END:DAYLIGHT
BEGIN:STANDARD
TZOFFSETFROM:+0200
TZOFFSETTO:+0100
TZNAME:CET
DTSTART:20261025T010000
END:STANDARD
END:VTIMEZONE
BEGIN:VEVENT
DTSTART;TZID=Europe/Berlin:20250809T180000
DTEND;TZID=Europe/Berlin:20250809T230000
DTSTAMP:20260421T223607
CREATED:20250804T122416Z
LAST-MODIFIED:20250804T122416Z
UID:1710-1754762400-1754780400@blockhaus-wasserliesch.de
SUMMARY:Sommerbühne - Rumänischer Abend
DESCRIPTION:Rumänischer Abend mit Musik DJ David Jack und DJ Alexander und Rumänischem Essen
URL:https://blockhaus-wasserliesch.de/events/sommerbuehne-rumaenischer-abend/
LOCATION:Sommerbühne Blockhaus Wasserliesch
CATEGORIES:Blockhaus Veranstaltungen
ATTACH;FMTTYPE=image/jpeg:https://blockhaus-wasserliesch.de/wp-content/uploads/2025/08/rumAbend.jpg
END:VEVENT
BEGIN:VEVENT
DTSTART;TZID=Europe/Berlin:20250810T160000
DTEND;TZID=Europe/Berlin:20250810T183000
DTSTAMP:20260421T223607
CREATED:20250730T073952Z
LAST-MODIFIED:20250730T094927Z
UID:1690-1754841600-1754850600@blockhaus-wasserliesch.de
SUMMARY:Sommerbühne - Unplugged AG
DESCRIPTION:Die Unplugged AG besteht aus Annette Danzglock und Gerd Hirsch.  \nWir spielen einen bunten Mix aus Rock- und Popklassiker von den 60ern bis\nheute Querbeet von Adele bis zu The Who mit akustischen Gitarren und\nzweistimmigem Gesang.  \nWir freuen uns auf euch!
URL:https://blockhaus-wasserliesch.de/events/sommerbuehne-unplugged-ag/
LOCATION:Sommerbühne Blockhaus Wasserliesch
CATEGORIES:Blockhaus Veranstaltungen
ATTACH;FMTTYPE=image/jpeg:https://blockhaus-wasserliesch.de/wp-content/uploads/2025/07/UnpluggedAG.jpg
END:VEVENT
BEGIN:VEVENT
DTSTART;TZID=Europe/Berlin:20250824T170000
DTEND;TZID=Europe/Berlin:20250824T190000
DTSTAMP:20260421T223607
CREATED:20250821T131216Z
LAST-MODIFIED:20250821T131250Z
UID:1715-1756054800-1756062000@blockhaus-wasserliesch.de
SUMMARY:Sommerbühne - Live Musik der anderen Art
DESCRIPTION:Sommerbühne – Live Musik der anderen Art
URL:https://blockhaus-wasserliesch.de/events/24-08-2025-sommerbuehne-live-musik-der-anderen-art/
LOCATION:Sommerbühne Blockhaus Wasserliesch
CATEGORIES:Blockhaus Veranstaltungen
END:VEVENT
BEGIN:VEVENT
DTSTART;TZID=Europe/Berlin:20250825T190000
DTEND;TZID=Europe/Berlin:20250825T230000
DTSTAMP:20260421T223607
CREATED:20250730T074118Z
LAST-MODIFIED:20250730T074118Z
UID:1694-1756148400-1756162800@blockhaus-wasserliesch.de
SUMMARY:Sommerbühne - Jam Session
DESCRIPTION:
URL:https://blockhaus-wasserliesch.de/events/sommerbuehne-jam-session-4/
LOCATION:Sommerbühne Blockhaus Wasserliesch
CATEGORIES:Blockhaus Veranstaltungen
ATTACH;FMTTYPE=image/png:https://blockhaus-wasserliesch.de/wp-content/uploads/2025/05/jamsession.png
END:VEVENT
END:VCALENDAR