BEGIN:VCALENDAR
VERSION:2.0
PRODID:-//Blockhaus Wasserliesch - ECPv6.15.20//NONSGML v1.0//EN
CALSCALE:GREGORIAN
METHOD:PUBLISH
X-WR-CALNAME:Blockhaus Wasserliesch
X-ORIGINAL-URL:https://blockhaus-wasserliesch.de
X-WR-CALDESC:Veranstaltungen für Blockhaus Wasserliesch
REFRESH-INTERVAL;VALUE=DURATION:PT1H
X-Robots-Tag:noindex
X-PUBLISHED-TTL:PT1H
BEGIN:VTIMEZONE
TZID:Europe/Berlin
BEGIN:DAYLIGHT
TZOFFSETFROM:+0100
TZOFFSETTO:+0200
TZNAME:CEST
DTSTART:20240331T010000
END:DAYLIGHT
BEGIN:STANDARD
TZOFFSETFROM:+0200
TZOFFSETTO:+0100
TZNAME:CET
DTSTART:20241027T010000
END:STANDARD
BEGIN:DAYLIGHT
TZOFFSETFROM:+0100
TZOFFSETTO:+0200
TZNAME:CEST
DTSTART:20250330T010000
END:DAYLIGHT
BEGIN:STANDARD
TZOFFSETFROM:+0200
TZOFFSETTO:+0100
TZNAME:CET
DTSTART:20251026T010000
END:STANDARD
BEGIN:DAYLIGHT
TZOFFSETFROM:+0100
TZOFFSETTO:+0200
TZNAME:CEST
DTSTART:20260329T010000
END:DAYLIGHT
BEGIN:STANDARD
TZOFFSETFROM:+0200
TZOFFSETTO:+0100
TZNAME:CET
DTSTART:20261025T010000
END:STANDARD
END:VTIMEZONE
BEGIN:VEVENT
DTSTART;TZID=Europe/Berlin:20250720T150000
DTEND;TZID=Europe/Berlin:20250720T170000
DTSTAMP:20260422T002204
CREATED:20250711T081016Z
LAST-MODIFIED:20250711T081257Z
UID:1652-1753023600-1753030800@blockhaus-wasserliesch.de
SUMMARY:Sommerbühne - Achim Weinzen
DESCRIPTION:Achim Weinzen
URL:https://blockhaus-wasserliesch.de/events/achim-weinzen/
LOCATION:Sommerbühne Blockhaus Wasserliesch
CATEGORIES:Blockhaus Veranstaltungen
ATTACH;FMTTYPE=image/jpeg:https://blockhaus-wasserliesch.de/wp-content/uploads/2025/07/aw2007.jpg
END:VEVENT
BEGIN:VEVENT
DTSTART;TZID=Europe/Berlin:20250728T190000
DTEND;TZID=Europe/Berlin:20250728T220000
DTSTAMP:20260422T002204
CREATED:20250711T081500Z
LAST-MODIFIED:20250711T081500Z
UID:1663-1753729200-1753740000@blockhaus-wasserliesch.de
SUMMARY:Sommerbühne - Jam Session
DESCRIPTION:Sommerbühne – Jam Session
URL:https://blockhaus-wasserliesch.de/events/sommerbuehne-jam-session-3/
LOCATION:Sommerbühne Blockhaus Wasserliesch
CATEGORIES:Blockhaus Veranstaltungen
ATTACH;FMTTYPE=image/png:https://blockhaus-wasserliesch.de/wp-content/uploads/2025/05/jamsession.png
END:VEVENT
END:VCALENDAR