BEGIN:VCALENDAR
VERSION:2.0
PRODID:-//Blockhaus Wasserliesch - ECPv6.15.20//NONSGML v1.0//EN
CALSCALE:GREGORIAN
METHOD:PUBLISH
X-WR-CALNAME:Blockhaus Wasserliesch
X-ORIGINAL-URL:https://blockhaus-wasserliesch.de
X-WR-CALDESC:Veranstaltungen für Blockhaus Wasserliesch
REFRESH-INTERVAL;VALUE=DURATION:PT1H
X-Robots-Tag:noindex
X-PUBLISHED-TTL:PT1H
BEGIN:VTIMEZONE
TZID:Europe/Berlin
BEGIN:DAYLIGHT
TZOFFSETFROM:+0100
TZOFFSETTO:+0200
TZNAME:CEST
DTSTART:20240331T010000
END:DAYLIGHT
BEGIN:STANDARD
TZOFFSETFROM:+0200
TZOFFSETTO:+0100
TZNAME:CET
DTSTART:20241027T010000
END:STANDARD
BEGIN:DAYLIGHT
TZOFFSETFROM:+0100
TZOFFSETTO:+0200
TZNAME:CEST
DTSTART:20250330T010000
END:DAYLIGHT
BEGIN:STANDARD
TZOFFSETFROM:+0200
TZOFFSETTO:+0100
TZNAME:CET
DTSTART:20251026T010000
END:STANDARD
BEGIN:DAYLIGHT
TZOFFSETFROM:+0100
TZOFFSETTO:+0200
TZNAME:CEST
DTSTART:20260329T010000
END:DAYLIGHT
BEGIN:STANDARD
TZOFFSETFROM:+0200
TZOFFSETTO:+0100
TZNAME:CET
DTSTART:20261025T010000
END:STANDARD
END:VTIMEZONE
BEGIN:VEVENT
DTSTART;TZID=Europe/Berlin:20250501T150000
DTEND;TZID=Europe/Berlin:20250501T180000
DTSTAMP:20260422T040101
CREATED:20250201T204003Z
LAST-MODIFIED:20250201T204003Z
UID:1429-1746111600-1746122400@blockhaus-wasserliesch.de
SUMMARY:01.05.2025 Rock in den Mai mit Fool House
DESCRIPTION:01.05.2025 Rock in den Mai mit Fool House
URL:https://blockhaus-wasserliesch.de/events/01-05-2025-rock-in-den-mai-mit-fool-house/
CATEGORIES:Blockhaus Veranstaltungen
ATTACH;FMTTYPE=image/jpeg:https://blockhaus-wasserliesch.de/wp-content/uploads/2025/02/RockindenMai-scaled-e1776629150103.jpg
END:VEVENT
BEGIN:VEVENT
DTSTART;TZID=Europe/Berlin:20250511T150000
DTEND;TZID=Europe/Berlin:20250511T180000
DTSTAMP:20260422T040101
CREATED:20250427T064558Z
LAST-MODIFIED:20250510T181259Z
UID:1509-1746975600-1746986400@blockhaus-wasserliesch.de
SUMMARY:Achim Weinzen und Walter Kuhn
DESCRIPTION:Achim Weinzen und Walter Kuhn
URL:https://blockhaus-wasserliesch.de/events/achim-weinzen-und-walter-kuhn/
LOCATION:Sommerbühne Blockhaus Wasserliesch
CATEGORIES:Blockhaus Veranstaltungen
ATTACH;FMTTYPE=image/jpeg:https://blockhaus-wasserliesch.de/wp-content/uploads/2025/05/aw.jpg
END:VEVENT
BEGIN:VEVENT
DTSTART;TZID=Europe/Berlin:20250523T190000
DTEND;TZID=Europe/Berlin:20250523T220000
DTSTAMP:20260422T040101
CREATED:20250510T174544Z
LAST-MODIFIED:20250520T192346Z
UID:1565-1748026800-1748037600@blockhaus-wasserliesch.de
SUMMARY:Sommerbühne - Marco Dühr
DESCRIPTION:Sommerbühne – Marco Dühr
URL:https://blockhaus-wasserliesch.de/events/sommerbuehne-marco-duehr/
LOCATION:Sommerbühne Blockhaus Wasserliesch
CATEGORIES:Blockhaus Veranstaltungen
ATTACH;FMTTYPE=image/jpeg:https://blockhaus-wasserliesch.de/wp-content/uploads/2025/05/499685193_122144501840594755_5401503848069687605_n.jpg
END:VEVENT
BEGIN:VEVENT
DTSTART;TZID=Europe/Berlin:20250526T190000
DTEND;TZID=Europe/Berlin:20250526T220000
DTSTAMP:20260422T040101
CREATED:20250515T184549Z
LAST-MODIFIED:20250515T184550Z
UID:1574-1748286000-1748296800@blockhaus-wasserliesch.de
SUMMARY:Sommerbühne - Jam Session
DESCRIPTION:Sommerbühne – Jam Session
URL:https://blockhaus-wasserliesch.de/events/sommerbuehne-jam-session/
CATEGORIES:Blockhaus Veranstaltungen
ATTACH;FMTTYPE=image/png:https://blockhaus-wasserliesch.de/wp-content/uploads/2025/05/jamsession.png
END:VEVENT
END:VCALENDAR