BEGIN:VCALENDAR
VERSION:2.0
PRODID:-//Blockhaus Wasserliesch - ECPv6.15.20//NONSGML v1.0//EN
CALSCALE:GREGORIAN
METHOD:PUBLISH
X-ORIGINAL-URL:https://blockhaus-wasserliesch.de
X-WR-CALDESC:Veranstaltungen für Blockhaus Wasserliesch
REFRESH-INTERVAL;VALUE=DURATION:PT1H
X-Robots-Tag:noindex
X-PUBLISHED-TTL:PT1H
BEGIN:VTIMEZONE
TZID:Europe/Berlin
BEGIN:DAYLIGHT
TZOFFSETFROM:+0100
TZOFFSETTO:+0200
TZNAME:CEST
DTSTART:20240331T010000
END:DAYLIGHT
BEGIN:STANDARD
TZOFFSETFROM:+0200
TZOFFSETTO:+0100
TZNAME:CET
DTSTART:20241027T010000
END:STANDARD
BEGIN:DAYLIGHT
TZOFFSETFROM:+0100
TZOFFSETTO:+0200
TZNAME:CEST
DTSTART:20250330T010000
END:DAYLIGHT
BEGIN:STANDARD
TZOFFSETFROM:+0200
TZOFFSETTO:+0100
TZNAME:CET
DTSTART:20251026T010000
END:STANDARD
BEGIN:DAYLIGHT
TZOFFSETFROM:+0100
TZOFFSETTO:+0200
TZNAME:CEST
DTSTART:20260329T010000
END:DAYLIGHT
BEGIN:STANDARD
TZOFFSETFROM:+0200
TZOFFSETTO:+0100
TZNAME:CET
DTSTART:20261025T010000
END:STANDARD
END:VTIMEZONE
BEGIN:VEVENT
DTSTART;VALUE=DATE:20250305
DTEND;VALUE=DATE:20250306
DTSTAMP:20260422T074433
CREATED:20250227T143829Z
LAST-MODIFIED:20250227T144930Z
UID:1455-1741132800-1741219199@blockhaus-wasserliesch.de
SUMMARY:05. März - Heringsessen
DESCRIPTION:05.03 Aschermittwoch
URL:https://blockhaus-wasserliesch.de/events/05-maerz-heringsessen/
CATEGORIES:Blockhaus Veranstaltungen
ATTACH;FMTTYPE=image/jpeg:https://blockhaus-wasserliesch.de/wp-content/uploads/2025/02/hering2.jpg
END:VEVENT
END:VCALENDAR